BEGIN:VCALENDAR
VERSION:2.0
PRODID:-//Obelis Group - ECPv6.15.20//NONSGML v1.0//EN
CALSCALE:GREGORIAN
METHOD:PUBLISH
X-ORIGINAL-URL:https://www.obelis.net
X-WR-CALDESC:Events for Obelis Group
REFRESH-INTERVAL;VALUE=DURATION:PT1H
X-Robots-Tag:noindex
X-PUBLISHED-TTL:PT1H
BEGIN:VTIMEZONE
TZID:Europe/Brussels
BEGIN:DAYLIGHT
TZOFFSETFROM:+0100
TZOFFSETTO:+0200
TZNAME:CEST
DTSTART:20240331T010000
END:DAYLIGHT
BEGIN:STANDARD
TZOFFSETFROM:+0200
TZOFFSETTO:+0100
TZNAME:CET
DTSTART:20241027T010000
END:STANDARD
BEGIN:DAYLIGHT
TZOFFSETFROM:+0100
TZOFFSETTO:+0200
TZNAME:CEST
DTSTART:20250330T010000
END:DAYLIGHT
BEGIN:STANDARD
TZOFFSETFROM:+0200
TZOFFSETTO:+0100
TZNAME:CET
DTSTART:20251026T010000
END:STANDARD
BEGIN:DAYLIGHT
TZOFFSETFROM:+0100
TZOFFSETTO:+0200
TZNAME:CEST
DTSTART:20260329T010000
END:DAYLIGHT
BEGIN:STANDARD
TZOFFSETFROM:+0200
TZOFFSETTO:+0100
TZNAME:CET
DTSTART:20261025T010000
END:STANDARD
BEGIN:DAYLIGHT
TZOFFSETFROM:+0100
TZOFFSETTO:+0200
TZNAME:CEST
DTSTART:20270328T010000
END:DAYLIGHT
BEGIN:STANDARD
TZOFFSETFROM:+0200
TZOFFSETTO:+0100
TZNAME:CET
DTSTART:20271031T010000
END:STANDARD
END:VTIMEZONE
BEGIN:VEVENT
DTSTART;TZID=Europe/Brussels:20250603T090000
DTEND;TZID=Europe/Brussels:20250604T230000
DTSTAMP:20260423T054337
CREATED:20250221T092327Z
LAST-MODIFIED:20250515T111015Z
UID:10000006-1748941200-1749078000@www.obelis.net
SUMMARY:NYSCC 2025 - New York
DESCRIPTION:Are Science and Beauty your work sectors? Then let’s meet at NYSCC 2025\, the premier event for personal care ingredients and formulations in North America! We are here to help your brand succeed in a globally regulated market.Why Meet Us at NYSCC?✅ Expert insights on market access & compliance✅ Tailored strategies to accelerate approvals✅ Guidance on the latest regulatory updatesConnect with us to discover tailored solutions for your regulatory needs. Schedule a meeting today\, and let’s chat at the event!Looking forward to meet you at NYSCC!
URL:https://www.obelis.net/events/nyscc-2025-new-york/
CATEGORIES:Exhibitions
ATTACH;FMTTYPE=image/svg+xml:https://www.obelis.net/wp-content/uploads/2025/02/Event-Calendar-Featured-Image-6.svg
END:VEVENT
BEGIN:VEVENT
DTSTART;TZID=Europe/Brussels:20250611T090000
DTEND;TZID=Europe/Brussels:20250613T180000
DTSTAMP:20260423T054338
CREATED:20250221T094656Z
LAST-MODIFIED:20250521T103111Z
UID:10000007-1749632400-1749837600@www.obelis.net
SUMMARY:FIME 2025 - Miami
DESCRIPTION:Bringing Your Medical Devices to Market? Join us at FIME Miami\, the largest international medical trade event in the USA!Our first goal? Supporting medical manufacturers in achieving regulatory compliance without the hassle. \n\n\n\nWhy Meet Us at FIME? \n\n\n\n✅ Expert insights on market access & compliance✅ Tailored strategies to accelerate approvals✅ Guidance on the latest regulatory updates \n\n\n\nWe’re here to support your regulatory journey\, let’s talk! Set up a meeting in advance\, and we’ll see you at your booth. \n\n\n\nSee you at FIME!
URL:https://www.obelis.net/events/fime-2025-miami/
CATEGORIES:Exhibitions
ATTACH;FMTTYPE=image/svg+xml:https://www.obelis.net/wp-content/uploads/2025/02/Event-Calendar-Featured-Image-5.svg
END:VEVENT
BEGIN:VEVENT
DTSTART;TZID=Europe/Brussels:20250715T090000
DTEND;TZID=Europe/Brussels:20250717T180000
DTSTAMP:20260423T054338
CREATED:20250221T095509Z
LAST-MODIFIED:20250602T083928Z
UID:10000008-1752570000-1752775200@www.obelis.net
SUMMARY:COSMOPROF 2025 - Las Vegas
DESCRIPTION:Join us at Cosmoprof Las Vegas\, the leading B2B beauty exhibition in the USA! We can help your company decode and comply with global regulations with confidence.What will you get in return?✅ Expert insights on market access & compliance✅ Tailored strategies to accelerate approvals✅ Guidance on the latest regulatory updatesLet’s talk! Set up a meeting in advance\, and we’ll see you at your booth.Meet you there!
URL:https://www.obelis.net/events/cosmoprof-2025-las-vegas/
CATEGORIES:Exhibitions
ATTACH;FMTTYPE=image/svg+xml:https://www.obelis.net/wp-content/uploads/2025/02/Event-Calendar-Featured-Image-4.svg
END:VEVENT
BEGIN:VEVENT
DTSTART;TZID=Europe/Brussels:20250727T090000
DTEND;TZID=Europe/Brussels:20250731T180000
DTSTAMP:20260423T054338
CREATED:20250221T095942Z
LAST-MODIFIED:20250602T091902Z
UID:10000009-1753606800-1753984800@www.obelis.net
SUMMARY:ADLM 2025 - Chicago
DESCRIPTION:Scientific Meetings and Clinical Lab Expo? Looking forward to it! Join us and the global laboratory medicine community at ADML Chicago. Question about compliance? No need to worry\, we are here to help you!Why Meet Us at ADML?✅ Expert insights on market access & compliance✅ Tailored strategies to accelerate approvals✅ Guidance on the latest regulatory updatesSet up a meeting in advance and let’s discuss it together at your booth.Looking forward to meet you at ADML Chicago!
URL:https://www.obelis.net/events/adlm-2025-chicago/
CATEGORIES:Exhibitions
ATTACH;FMTTYPE=image/svg+xml:https://www.obelis.net/wp-content/uploads/2025/02/Event-Calendar-Featured-Image-3.svg
END:VEVENT
BEGIN:VEVENT
DTSTART;TZID=Europe/Brussels:20251117T090000
DTEND;TZID=Europe/Brussels:20251120T180000
DTSTAMP:20260423T054338
CREATED:20250221T100326Z
LAST-MODIFIED:20250625T100957Z
UID:10000010-1763370000-1763661600@www.obelis.net
SUMMARY:MEDICA 2025 - Düsseldorf
DESCRIPTION:Heard about MEDICA? It is one of the largest medical B2B trade fairs in the world and we will be there to support you! \n\n\n\nOur goal is to assist your company in smoothly complying with global regulations. \n\n\n\nWhy Meet Us at MEDICA? \n\n\n\n✅ Expert insights on market access & compliance✅ Tailored strategies to accelerate approvals✅ Guidance on the latest regulatory updates \n\n\n\nSchedule a meeting in advance and let’s chat at the exhibition! \n\n\n\nSee you at MEDICA!
URL:https://www.obelis.net/events/medica-2025-dusseldorf/
CATEGORIES:Exhibitions
ATTACH;FMTTYPE=image/svg+xml:https://www.obelis.net/wp-content/uploads/2025/02/Event-Calendar-Featured-Image-2.svg
END:VEVENT
BEGIN:VEVENT
DTSTART;TZID=Europe/Brussels:20251211T160000
DTEND;TZID=Europe/Brussels:20251211T170000
DTSTAMP:20260423T054338
CREATED:20251126T125657Z
LAST-MODIFIED:20251126T125701Z
UID:10000025-1765468800-1765472400@www.obelis.net
SUMMARY:WEBINAR: ISO 13485:2016 & EU MDR/IVDR – From Scope to Certification
DESCRIPTION:ISO 13485:2016 is the backbone of a compliant medical device business and a key enabler for CE marking and international registrations. In this webinar\, we’ll go beyond the basics and show\, in practical terms\, who ISO 13485 applies to\, how it links with EU MDR/IVDR and ISO 9001\, and how it supports market access.Through clear explanations and practical checklists\, we will cover:– The scope of ISO 13485 and affected roles (manufacturers\, ARs\, importers\, distributors)– Its relationship with EU MDR/IVDR\, CE marking\, and registrations in specific markets– The main clauses of the standard and what they expect from you– The essential documents and records you must have in place– The steps to achieve and maintain certification\, and where our service fits into each stage👉 Reserve your spot now and take a concrete step towards a stronger\, ISO 13485-compliant QMS.
URL:https://www.obelis.net/events/webinar-iso-134852016-eu-mdr-ivdr-from-scope-to-certification/
CATEGORIES:Exhibitions
ATTACH;FMTTYPE=image/jpeg:https://www.obelis.net/wp-content/uploads/2025/11/Event-Calendar-Featured-Image-4.jpg
END:VEVENT
BEGIN:VEVENT
DTSTART;TZID=Europe/Brussels:20260209T090000
DTEND;TZID=Europe/Brussels:20260212T180000
DTSTAMP:20260423T054338
CREATED:20251114T113133Z
LAST-MODIFIED:20251114T113137Z
UID:10000024-1770627600-1770919200@www.obelis.net
SUMMARY:WHX DUBAI - Former Arab Health
DESCRIPTION:Heading to WHX Dubai 2026? It’s one of the most dynamic stages for international business growth and Obelis Group is excited to be part of it! \n\n\n\nAt Obelis\, we help companies navigate complex medical devices and IVDs regulatory landscapes so they can enter markets with confidence and speed. \n\n\n\nWhat You Can Expect When You Meet Us at WHX Dubai \n\n\n\n✅ Strategic advice on expensing into global markets✅ Clear guidance on compliance requirements for your product category✅ Practical support to streamline approvals and reduce time-to-market \n\n\n\nLet’s plan ahead. Book a slot with our experts and make the most of your visit.  \n\n\n\nLooking forward to connecting with you at WHX Dubai!
URL:https://www.obelis.net/events/whx-dubai-former-arab-health/
CATEGORIES:Exhibitions
ATTACH;FMTTYPE=image/jpeg:https://www.obelis.net/wp-content/uploads/2025/11/Event-Calendar-Featured-Image-3.jpg
END:VEVENT
BEGIN:VEVENT
DTSTART;TZID=Europe/Brussels:20260224T090000
DTEND;TZID=Europe/Brussels:20260225T180000
DTSTAMP:20260423T054338
CREATED:20260115T090933Z
LAST-MODIFIED:20260115T101854Z
UID:10000029-1771923600-1772042400@www.obelis.net
SUMMARY:10th ERPA Annual Summit
DESCRIPTION:A New Milestone in Cosmetics Compliance & Safety\n\n\n\nIn 2026\, the European Cosmetics Responsible Person Association (ERPA) Annual Conference – formerly known as the CRCC – enters a new chapter. With a new name\, an expanded agenda\, and a sharpened purpose\, the event reflects the evolving needs of the cosmetics regulatory community. \n\n\n\nNow reintroduced as the ERPA Annual Summit\, this transformation responds to the growing demand for clarity\, meaningful dialogue\, and collaboration across the regulatory and scientific landscape of cosmetics compliance. \n\n\n\nObelis Group is proud to support this milestone edition as a Contributing Partner of the 10th ERPA Annual Summit. \n\n\n\n📅24-25 February 2026 \n\n\n\n📍Leiden University\, Netherlands \n\n\n\nDiscover more at: 10th ERPA Annual Summit 2026 | Home | Cosmetics Compliance & Safety \n\n\n\nGet 15% off! Send us a message at mg@obelis.net
URL:https://www.obelis.net/events/10th-erpa-annual-summit/
CATEGORIES:Exhibitions
ATTACH;FMTTYPE=image/jpeg:https://www.obelis.net/wp-content/uploads/2026/01/Event-Calendar-Featured-Image-22.jpg
END:VEVENT
BEGIN:VEVENT
DTSTART;TZID=Europe/Brussels:20260326T090000
DTEND;TZID=Europe/Brussels:20260328T180000
DTSTAMP:20260423T054338
CREATED:20260107T145612Z
LAST-MODIFIED:20260108T083727Z
UID:10000027-1774515600-1774720800@www.obelis.net
SUMMARY:Cosmoprof Bologna
DESCRIPTION:Heading to Cosmoprof Bologna?One of the leading global events for the beauty and cosmetics industry\, Cosmoprof Bologna is a key platform for international growth and Obelis Group is pleased to be part of it. \n\n\n\nAt Obelis\, we support companies in navigating complex cosmetics regulatory landscapes\, enabling confident and efficient access to global markets. \n\n\n\nWhat you can expect when you meet us at Cosmoprof Bologna: \n\n\n\n✅ Strategic advice on expanding into international markets✅ Clear guidance on regulatory and compliance requirements for your product category✅ Practical support to streamline approvals and reduce time to market \n\n\n\nLet’s plan ahead. Book a slot with our experts and make the most of your visit.  \n\n\n\nLooking forward to connecting with you at Cosmoprof Bologna!
URL:https://www.obelis.net/events/cosmoprof-bologna/
CATEGORIES:Exhibitions
ATTACH;FMTTYPE=image/jpeg:https://www.obelis.net/wp-content/uploads/2026/01/Event-Calendar-Featured-Image-19.jpg
END:VEVENT
BEGIN:VEVENT
DTSTART;TZID=Europe/Brussels:20260414T090000
DTEND;TZID=Europe/Brussels:20260417T180000
DTSTAMP:20260423T054338
CREATED:20260224T150728Z
LAST-MODIFIED:20260311T143637Z
UID:10000038-1776157200-1776448800@www.obelis.net
SUMMARY:Interclean Amsterdam
DESCRIPTION:Making plans to attend Interclean Amsterdam? \n\n\n\nThis April\, the world’s leading cleaning and hygiene event returns to the RAI Amsterdam with an expanded show floor and more international exhibitors. Interclean Amsterdam is the premier stage for the professional cleaning industry and Obelis Group is proud to be part of the movement. \n\n\n\nAt Obelis\, we help manufacturers of detergents\, disinfectants and professional cleaning equipment navigate the rigorous EU and global regulatory landscapes. Whether you are launching a new biocidal product or scaling smart cleaning technology\, we ensure your path to market is compliant\, confident\, and efficient. \n\n\n\nWhat you can expect when you meet us at Interclean: \n\n\n\n✅ Expert Regulatory Guidance: Deep dives into compliance for detergents\, disinfectants and Personal Protective Equipment (PPE).✅ Strategic Market Access: Advice on navigating the EU and UK markets\, including Responsible Person and Authorized Representative services.✅ Innovation Support: Practical insights on streamlining approvals for the latest tech showcased in the Robot and Healthcare Experience Centers. \n\n\n\nWith the industry shifting toward automation and sustainability\, having a strong regulatory strategy is more important than ever. Book a slot with our experts today to ensure your innovations are ready for the global stage. \n\n\n\nLooking forward to connecting with you in Amsterdam this April!
URL:https://www.obelis.net/events/interclean-amsterdam/
CATEGORIES:Exhibitions
ATTACH;FMTTYPE=image/jpeg:https://www.obelis.net/wp-content/uploads/2026/02/Interclean.jpg
END:VEVENT
BEGIN:VEVENT
DTSTART;TZID=Europe/Brussels:20260505T090000
DTEND;TZID=Europe/Brussels:20260506T180000
DTSTAMP:20260423T054338
CREATED:20260311T141728Z
LAST-MODIFIED:20260311T143344Z
UID:10000041-1777971600-1778090400@www.obelis.net
SUMMARY:GITEX Future Health Africa
DESCRIPTION:Heading to GITEX Future Health Africa?As Africa’s leading platform for health innovation and policy\, GITEX Future Health Africa is where healthcare’s evolution meets the continent’s digital future. Obelis Group is more than excited to be a part of this transformative event in Morocco this May. \n\n\n\nIn an era where AI and deep tech are reimagining health systems\, Obelis stands ready to support your journey. We help MedTech and Digital Health innovators navigate complex regulatory landscapes. \n\n\n\nWhat you can expect when you meet us in Morocco: \n\n\n\n✅ Strategic Roadmaps: Expert advice on scaling your health innovations across African and international borders.✅ Tech-Forward Compliance: Clear guidance on regulatory requirements for AI-driven devices\, software as a medical device (SaMD)\, and emerging health tech.✅ Accelerated Market Entry: Practical support to streamline approvals\, ensuring your life-saving technology reaches providers and patients faster. \n\n\n\nDon’t leave your regulatory strategy to chance. Book a dedicated slot with our experts ahead of time and maximise your impact at GITEX Future Health Africa. \n\n\n\nLooking forward to connecting with you in Morocco on 5-6 May!
URL:https://www.obelis.net/events/gitex-future-health-africa/
CATEGORIES:Exhibitions
ATTACH;FMTTYPE=image/jpeg:https://www.obelis.net/wp-content/uploads/2026/03/GITEX.jpg
END:VEVENT
BEGIN:VEVENT
DTSTART;TZID=Europe/Brussels:20260507T100000
DTEND;TZID=Europe/Brussels:20260509T180000
DTSTAMP:20260423T054338
CREATED:20260319T105438Z
LAST-MODIFIED:20260413T141312Z
UID:10000043-1778148000-1778349600@www.obelis.net
SUMMARY:Beauty Istanbul 2026
DESCRIPTION:Keen on Beauty Care? Let’s meet at Beauty Istanbul\, one of the largest cosmetics exhibitions worldwide! Our Mission? Helping cosmetics brands seamlessly adapt to global compliance standards.Why Meet Us at Beauty Istanbul?✅ Expert insights on market access & compliance✅ Tailored strategies to accelerate approvals✅ Guidance on the latest regulatory updatesLet’s connect to discuss how we can support your regulatory needs! Schedule a meeting with us in advance\, and we’ll see you at our booth\, yours\, or wherever is convenient for you. \n\n\n\nObelis Booth: Hall 10/10A 430We look forward to meeting you at Beauty Istanbul!
URL:https://www.obelis.net/events/beauty-istanbul-2026/
CATEGORIES:Exhibitions
ATTACH;FMTTYPE=image/jpeg:https://www.obelis.net/wp-content/uploads/2026/03/GITEX-1.jpg
END:VEVENT
END:VCALENDAR