BEGIN:VCALENDAR
VERSION:2.0
PRODID:-//Obelis Group - ECPv6.15.20//NONSGML v1.0//EN
CALSCALE:GREGORIAN
METHOD:PUBLISH
X-ORIGINAL-URL:https://www.obelis.net
X-WR-CALDESC:Events for Obelis Group
REFRESH-INTERVAL;VALUE=DURATION:PT1H
X-Robots-Tag:noindex
X-PUBLISHED-TTL:PT1H
BEGIN:VTIMEZONE
TZID:Europe/Brussels
BEGIN:DAYLIGHT
TZOFFSETFROM:+0100
TZOFFSETTO:+0200
TZNAME:CEST
DTSTART:20240331T010000
END:DAYLIGHT
BEGIN:STANDARD
TZOFFSETFROM:+0200
TZOFFSETTO:+0100
TZNAME:CET
DTSTART:20241027T010000
END:STANDARD
BEGIN:DAYLIGHT
TZOFFSETFROM:+0100
TZOFFSETTO:+0200
TZNAME:CEST
DTSTART:20250330T010000
END:DAYLIGHT
BEGIN:STANDARD
TZOFFSETFROM:+0200
TZOFFSETTO:+0100
TZNAME:CET
DTSTART:20251026T010000
END:STANDARD
BEGIN:DAYLIGHT
TZOFFSETFROM:+0100
TZOFFSETTO:+0200
TZNAME:CEST
DTSTART:20260329T010000
END:DAYLIGHT
BEGIN:STANDARD
TZOFFSETFROM:+0200
TZOFFSETTO:+0100
TZNAME:CET
DTSTART:20261025T010000
END:STANDARD
END:VTIMEZONE
BEGIN:VEVENT
DTSTART;TZID=Europe/Brussels:20250320T090000
DTEND;TZID=Europe/Brussels:20250323T180000
DTSTAMP:20260423T084502
CREATED:20250304T101432Z
LAST-MODIFIED:20250327T105716Z
UID:10000015-1742461200-1742752800@www.obelis.net
SUMMARY:COSMOPROF 2025 - Bologna
DESCRIPTION:Product launches and innovative solutions? Counting you in for Cosmoprof Bologna! \n\n\n\nOur goal is to assist your company in smoothly complying with global regulations and we will be there to support you. \n\n\n\nWhy Meet Us at Cosmoprof Bologna? \n\n\n\n✅ Expert insights on market access & compliance✅ Tailored strategies to accelerate approvals✅ Guidance on the latest regulatory updates \n\n\n\nSchedule a meeting in advance and let’s become compliant together\, step by step! \n\n\n\nSee you in Bologna!
URL:https://www.obelis.net/events/cosmoprof-2025-bologna/
CATEGORIES:Exhibitions
ATTACH;FMTTYPE=image/svg+xml:https://www.obelis.net/wp-content/uploads/2025/03/Event-Calendar-Featured-Image-13.svg
END:VEVENT
BEGIN:VEVENT
DTSTART;TZID=Europe/Brussels:20250325T090000
DTEND;TZID=Europe/Brussels:20250328T173000
DTSTAMP:20260423T084503
CREATED:20250212T121828Z
LAST-MODIFIED:20250327T105523Z
UID:10000003-1742893200-1743183000@www.obelis.net
SUMMARY:IDS 2025 - Cologne
DESCRIPTION:Bringing Your Dental Devices to Market? Join us at IDS\, the world’s leading trade show for dental innovation! We’re here to help dental and medical device manufacturers easily navigate global regulations.  \n\n\n\nWhy Meet Us at IDS? \n\n\n\n✅ Expert insights on market access & compliance✅ Tailored strategies to accelerate approvals✅ Guidance on the latest regulatory updates \n\n\n\nLet’s connect and discuss how we can support your regulatory needs. Book a meeting with us in advance or visit our booth at the event! \n\n\n\nWe look forward to seeing you at IDS!
URL:https://www.obelis.net/events/ids-2025-cologne/
CATEGORIES:Exhibitions
ATTACH;FMTTYPE=image/svg+xml:https://www.obelis.net/wp-content/uploads/2025/02/Event-Calendar-Featured-Image-11.svg
END:VEVENT
END:VCALENDAR